{"text_format":"1","workbook":"xlsx","n_sheets":15,"sheets":["総括","明細No1","明細No2","明細No3","明細No4","明細No5","明細No6","明細No7","明細No8","明細No9","明細No10","明細No11","明細No12","明細No13","旭日担当者"],"not_rendered":{"charts":0,"images":3,"macros":1,"external_links":0,"defined_names":14,"comments":1,"pivot_tables":0},"unopened":[],"bounds":{"document_bytes":16777216,"sheet_cells":100000,"rows_first":2000,"rows_last":500,"rows_between":2000,"halvings":0,"cell_chars":16384,"cell_head_chars":4096},"cells_cut":0,"cells_raw":0,"read":"whole","date_system":"1900"}

{"sheet":"総括","index":0,"n_rows":35,"n_cols":30,"rows_kept":35,"cut":false,"hidden":false,"merged":[[3,6,3,9],[3,16,3,19],[9,27,9,28],[4,25,5,25],[4,26,4,29],[5,26,5,29],[6,26,6,28],[7,26,7,28],[4,5,5,5],[4,6,4,9],[5,6,5,9],[6,6,6,8],[7,6,7,8],[9,17,9,18],[9,7,9,8],[4,15,5,15],[4,16,4,19],[5,16,5,19],[6,16,6,18],[7,16,7,18]]}
[null,null,null,null,null,null,null,null,null,"2025/2/27更新"]
[null,null,"総　括　請　求　書 (控)",null,"外　注",null,null,"請求日",{"$f":"TODAY()","v":"2025-02-27"},"20",null,null,"総　括　請　求　書　(正)",null,{"$f":"Y2","v":"外　注"},null,null,"請求日",{"$f":"AC2","v":"2025-02-27"},{"$f":"AD2","v":"20"},null,null,"総　括　請　求　書 (返却用)",null,{"$f":"E2","v":"外　注"},null,null,"請求日",{"$f":"I2","v":"2025-02-27"},{"$f":"J2","v":"20"}]
[null,null,null,null,"↑対象を選択"]
[null,null,"旭日産業株式会社御中",null,null,"請求者",null,null,null,null,null,null,"旭日産業株式会社御中",null,null,"請求者",null,null,null,null,null,null,"旭日産業株式会社"]
[null,null,null,null,null,"住　所",null,null,null,null,null,null,null,null,null,"住　所",{"$f":"G5","v":0},null,null,null,null,null,null,null,null,"住　所",{"$f":"Q5","v":0}]
[null,null,null,null,null,null,null,null,null,null,null,null,null,null,null,null,{"$f":"G6","v":0},null,null,null,null,null,null,null,null,null,{"$f":"Q6","v":0}]
["  ",null,"下記の通り請求します",null,null,"社　名",null,null,null,null,null,null,"下記の通り請求します",null,null,"社　名",{"$f":"G7","v":0},null,null,"印",null,null,"下記の通り査定結果をお知らせいたします",null,null,"社　名",{"$f":"Q7","v":0},null,null,"御中"]
[null,null,null,null,null,"T E L",null,null,null,null,null,null,null,null,null,"T E L",{"$f":"G8","v":0},null,null,null,null,null,"送付後一定期間内に連絡がない場合確認済とします",null,null,"T E L",{"$f":"Q8","v":0}]
[null,null,null,null,null,null,"※適格請求書発行事業者の方は必ずご記入下さい"]
[null,null,null,null,null,null,"登録番号：T",null,null,null,null,null,null,null,null,null,"登録番号：T",{"$f":"H10","v":0},null,null,null,null,null,null,null,null,"登録番号：T",{"$f":"R10","v":0}]
[]
[null,null,null,null,null,{"$f":"TEXT(EDATE(I2,-1),\"yyyy年m月\")&\"21日\"","v":"2025年1月21日"},"～",{"$f":"TEXT(EDATE(I2,0),\"yyyy年m月\")&\"20日\"","v":"2025年2月20日"},null,null,null,null,null,null,null,{"$f":"Z12","v":"2025年1月21日"},"～",{"$f":"AB12","v":"2025年2月20日"},null,null,null,null,null,null,null,{"$f":"F12","v":"2025年1月21日"},"～",{"$f":"H12","v":"2025年2月20日"}]
[]
[null,"No.","受 注 先","現 場 名 称","立替金Ⓐ","請　求　額Ⓑ","コード","立替査定","査　定　額","伝票No.",null,"No.","受 注 先","現 場 名 称","立替金Ⓐ","請　求　額Ⓑ","コード","立替査定","査　定　額","伝票No.",null,"No.","受 注 先","現 場 名 称","立替金Ⓐ","請　求　額Ⓑ","コード","立替査定","査　定　額","伝票No."]
[null,1,{"$f":"明細No1!D5","v":0},{"$f":"明細No1!G5","v":0},{"$f":"明細No1!D15","v":0},{"$f":"明細No1!H18","v":0},null,null,null,null,null,1,{"$f":"W15","v":0},{"$f":"X15","v":0},{"$f":"Y15","v":0},{"$f":"Z15","v":0},null,null,null,null,null,1,{"$f":"C15","v":0},{"$f":"D15","v":0},{"$f":"E15","v":0},{"$f":"F15","v":0}]
[null,2,{"$f":"明細No2!D5","v":0},{"$f":"明細No2!G5","v":0},{"$f":"明細No2!D15","v":0},{"$f":"明細No2!H18","v":0},null,null,null,null,null,2,0,0,0,0,null,null,null,null,null,2,0,0,0,0]
[null,3,{"$f":"明細No3!D5","v":0},{"$f":"明細No3!G5","v":0},{"$f":"明細No3!D15","v":0},{"$f":"明細No3!H18","v":0},null,null,null,null,null,3,0,0,0,0,null,null,null,null,null,3,0,0,0,0]
[null,4,{"$f":"明細No4!D5","v":0},{"$f":"明細No4!G5","v":0},{"$f":"明細No4!D15","v":0},{"$f":"明細No4!H18","v":0},null,null,null,null,null,4,0,0,0,0,null,null,null,null,null,4,0,0,0,0]
[null,5,{"$f":"明細No5!D5","v":0},{"$f":"明細No5!G5","v":0},{"$f":"明細No5!D15","v":0},{"$f":"明細No5!H18","v":0},null,null,null,null,null,5,0,0,0,0,null,null,null,null,null,5,0,0,0,0]
[null,6,{"$f":"明細No6!D5","v":0},{"$f":"明細No6!G5","v":0},{"$f":"明細No6!D15","v":0},{"$f":"明細No6!H18","v":0},null,null,null,null,null,6,0,0,0,0,null,null,null,null,null,6,0,0,0,0]
[null,7,{"$f":"明細No7!D5","v":0},{"$f":"明細No7!G5","v":0},{"$f":"明細No7!D15","v":0},{"$f":"明細No7!H18","v":0},null,null,null,null,null,7,0,0,0,0,null,null,null,null,null,7,0,0,0,0]
[null,8,{"$f":"明細No8!D5","v":0},{"$f":"明細No8!G5","v":0},{"$f":"明細No8!D15","v":0},{"$f":"明細No8!H18","v":0},null,null,null,null,null,8,0,0,0,0,null,null,null,null,null,8,0,0,0,0]
[null,9,{"$f":"明細No9!D5","v":0},{"$f":"明細No9!G5","v":0},{"$f":"明細No9!D15","v":0},{"$f":"明細No9!H18","v":0},null,null,null,null,null,9,0,{"$f":"X23","v":0},{"$f":"Y23","v":0},0,null,null,null,null,null,9,0,0,0,0]
[null,10,{"$f":"明細No10!D5","v":0},{"$f":"明細No10!G5","v":0},{"$f":"明細No10!D15","v":0},{"$f":"明細No10!H18","v":0},null,null,null,null,null,10,0,0,0,0,null,null,null,null,null,10,0,0,0,0]
[null,11,{"$f":"明細No11!D5","v":0},{"$f":"明細No11!G5","v":0},{"$f":"明細No11!D15","v":0},{"$f":"明細No11!H18","v":0},null,null,null,null,null,11,0,0,0,0,null,null,null,null,null,11,0,0,0,0]
[null,12,{"$f":"明細No12!D5","v":0},{"$f":"明細No12!G5","v":0},{"$f":"明細No12!D15","v":0},{"$f":"明細No12!H18","v":0},null,null,null,null,null,12,0,0,0,0,null,null,null,null,null,12,0,0,0,0]
[null,13,{"$f":"明細No13!D5","v":0},{"$f":"明細No13!G5","v":0},{"$f":"明細No13!D15","v":0},{"$f":"明細No13!H18","v":0},null,null,null,null,null,13,0,0,0,0,null,null,null,null,null,13,0,0,0,0]
[null,null,"計",null,{"$f":"SUM(E15:E27)","v":0},{"$f":"SUM(F15:F27)","v":0},null,null,null,null,null,null,"計",null,{"$f":"SUM(O15:O27)","v":0},{"$f":"SUM(P15:P27)","v":0},null,null,null,null,null,null,"計",null,{"$f":"SUM(Y15:Y27)","v":0},{"$f":"SUM(Z15:Z27)","v":0}]
[null,null,"請求金額",null,null,{"$f":"E28+F28","v":0},null,null,null,null,null,null,"請求金額",null,null,{"$f":"O28+P28","v":0},null,null,null,null,null,null,"請求金額",null,null,{"$f":"Y28+Z28","v":0}]
[null,null,null,null,null,null,null,null,null,null,null,null,null,null,null,null,"↓査定時に使用 記入しないで下さい",null,null,null,null,null,null,null,null,null,"↓査定時に使用 記入しないで下さい"]
[null,"総括請求書は(正)と(返却用)の2枚をご提出ください。"]
[null,"必要事項を漏れなく正しく記入してください",null,null,null,null,null,null,null,null,null,"必要事項を漏れなく正しく記入してください",null,null,null,null,null,null,null,null,null,"必要事項を漏れなく正しく記入してください"]
[null,"立替金Ⓐ及び請求額Ⓑは税込金額となります",null,null,null,null,null,null,null,null,null,"立替金Ⓐ及び請求額Ⓑは税込金額となります",null,null,null,null,null,null,null,null,null,"立替金Ⓐ及び請求額Ⓑは税込金額となります"]
[null,"請求必着日までに届かない場合は次月回しとなりますのでご注意ください",null,null,null,null,null,null,null,null,null,"請求必着日までに届かない場合は次月回しとなりますのでご注意ください",null,null,null,null,null,null,null,null,null,"請求必着日までに届かない場合は次月回しとなりますのでご注意ください"]
[null,"振込先変更の場合は別途お知らせください",null,null,null,null,null,null,null,null,null,"振込先変更の場合は別途お知らせください",null,null,null,null,null,null,null,null,null,"査定結果を返送するため、こちらも提出願います。"]

{"sheet":"明細No1","index":1,"n_rows":47,"n_cols":12,"rows_kept":47,"cut":false,"hidden":false,"merged":[[1,8,2,11],[26,8,27,11],[2,3,2,4],[19,4,19,5],[20,4,20,5],[21,4,21,5],[8,2,8,3],[9,2,9,3],[10,2,10,3],[11,2,11,3],[12,2,12,3],[26,7,28,7],[29,6,29,8],[46,4,46,5],[33,2,33,3],[34,2,34,3],[27,3,27,4],[44,4,44,5],[45,4,45,5],[35,2,35,3],[36,2,36,3],[37,2,37,3]]}
[null,null,"請求明細書(控用)",null,null,null,"No.1",null,"請求者"]
[null,null,null,null,null,null,null,null,{"$f":"総括!G7","v":0}]
[null,null,"請求日",{"$f":"総括!I2","v":"2025-02-27"},null,{"$f":"総括!J2","v":"20"},"日"]
[null,null,"担当者"]
[null,null,"受注先",null,null,"現場名称"]
[]
[null,null,"摘　要",null,"請　求　欄",null,null,null,"査　定　欄"]
[null,null,"人工は日付も記入してください",null,"数量","単位","単価","小計","数量","単位","単価","小計"]
[null,1,null,null,null,null,null,{"$f":"ROUND(E9*G9,0)","v":0}]
[null,2,null,null,null,null,null,{"$f":"ROUND(E10*G10,0)","v":0}]
[null,3,null,null,null,null,null,0]
[null,4,null,null,null,null,null,0]
[null,5,null,null,null,null,null,0]
[null,"※立替金は必ず領収書を添付してください",null,null,"計",null,null,{"$f":"SUM(H9:H13)","v":0},"計"]
[null,"立替金(税込)Ⓐ ",null,null,"既収金",null,null,null,"既支払額"]
[null,null,null,null,"当月出来高",null,null,{"$f":"H14-H15","v":0},"当月出来高"]
[null,null,null,null,"消費税",null,null,{"$f":"H21+H22","v":0},"消費税"]
[null,null,null,null,"合計(税込)Ⓑ",null,null,{"$f":"H16+H17","v":0},"査定金額"]
[]
[null,null,null,null,null,null,"税抜計","消費税"]
[null,null,null,null,"10%対象計",null,{"$f":"H16-G22","v":0},{"$f":"ROUND(G21*0.1,0)","v":0}]
[]
[]
[null,"↓切り離してご提出下さい"]
[]
[null,null,"請求明細書(提出用)",null,null,null,{"$f":"G1","v":"No.1"},null,"請求者"]
[null,null,null,null,null,null,null,{"$f":"IF(総括!E2=\"労　務\",\"労\",IF(総括!E2=\"外　注\",\"外\",))","v":"外"},{"$f":"I2","v":0}]
[null,null,"請求日",{"$f":"D3","v":"2025-02-27"},null,{"$f":"F3","v":"20"},"日"]
[null,null,"担当者",{"$f":"D4","v":0},null,null,null,null,{"$f":"I4","v":0}]
[null,null,"受注先",{"$f":"D5","v":0},null,"現場名称",{"$f":"G5","v":0}]
[]
[null,null,"摘　要",null,"請　求　欄",null,null,null,"査　定　欄"]
[null,null,"人工は日付も記入してください",null,"数量","単位","単価","小計","数量","単位","単価","小計"]
[null,1,{"$f":"C9","v":0},null,{"$f":"E9","v":0},0,0,{"$f":"H9","v":0}]
[null,2,{"$f":"C10","v":0},null,{"$f":"E10","v":0},0,0,0]
[null,3,0,null,{"$f":"E11","v":0},0,0,0]
[null,4,0,null,{"$f":"E12","v":0},0,0,0]
[null,5,{"$f":"C13","v":0},null,{"$f":"E13","v":0},0,0,0]
[null,"※立替金は必ず領収書を添付してください",null,null,"計",null,null,{"$f":"H14","v":0},"計"]
[null,"立替金(税込)Ⓐ",null,{"$f":"D15","v":0},"既収金",null,null,0,"既支払額"]
[null,{"$f":"\"参考計\"&TEXT(D40+H43,\"#,###\")","v":"参考計"},null,null,"当月出来高",null,null,0,"当月出来高"]
[null,null,null,null,"消費税",null,null,0,"消費税"]
[null,null,null,null,"合計Ⓑ",null,null,0,"査定金額"]
[]
[null,null,null,null,null,null,"税抜計","消費税"]
[null,null,null,null,"10%対象計",null,{"$f":"G21","v":0},{"$f":"H21","v":0}]
[null,null,null,null,{"$f":"E22","v":0},null,{"$f":"G22","v":0},{"$f":"H22","v":0}]

{"sheet":"明細No2","index":2,"n_rows":47,"n_cols":12,"rows_kept":47,"cut":false,"hidden":false,"merged":[[29,6,29,8],[33,2,33,3],[34,2,34,3],[35,2,35,3],[36,2,36,3],[44,4,44,5],[45,4,45,5],[46,4,46,5],[19,4,19,5],[8,2,8,3],[9,2,9,3],[10,2,10,3],[11,2,11,3],[12,2,12,3],[37,2,37,3],[1,8,2,11],[2,3,2,4],[26,8,27,11],[27,3,27,4],[20,4,20,5],[21,4,21,5],[26,7,28,7]]}
[null,null,"請求明細書(控用)",null,null,null,"No.2",null,"請求者"]
[null,null,null,null,null,null,null,null,{"$f":"総括!G7","v":0}]
[null,null,"請求日",{"$f":"総括!I2","v":"2025-02-27"},null,{"$f":"総括!J2","v":"20"},"日"]
[null,null,"担当者"]
[null,null,"受注先",null,null,"現場名称"]
[]
[null,null,"摘　要",null,"請　求　欄",null,null,null,"査　定　欄"]
[null,null,"人工は日付も記入してください",null,"数量","単位","単価","小計","数量","単位","単価","小計"]
[null,1,null,null,null,null,null,{"$f":"ROUND(E9*G9,0)","v":0}]
[null,2,null,null,null,null,null,{"$f":"ROUND(E10*G10,0)","v":0}]
[null,3,null,null,null,null,null,0]
[null,4,null,null,null,null,null,0]
[null,5,null,null,null,null,null,0]
[null,"※立替金は必ず領収書を添付してください",null,null,"計",null,null,{"$f":"SUM(H9:H13)","v":0},"計"]
[null,"立替金(税込)Ⓐ ",null,null,"既収金",null,null,null,"既支払額"]
[null,null,null,null,"当月出来高",null,null,{"$f":"H14-H15","v":0},"当月出来高"]
[null,null,null,null,"消費税",null,null,{"$f":"H21+H22","v":0},"消費税"]
[null,null,null,null,"合計(税込)Ⓑ",null,null,{"$f":"H16+H17","v":0},"査定金額"]
[]
[null,null,null,null,null,null,"税抜計","消費税"]
[null,null,null,null,"10%対象計",null,{"$f":"H16-G22","v":0},{"$f":"ROUND(G21*0.1,0)","v":0}]
[]
[]
[null,"↓切り離してご提出下さい"]
[]
[null,null,"請求明細書(提出用)",null,null,null,{"$f":"G1","v":"No.2"},null,"請求者"]
[null,null,null,null,null,null,null,{"$f":"IF(総括!E2=\"労　務\",\"労\",IF(総括!E2=\"外　注\",\"外\",))","v":"外"},{"$f":"I2","v":0}]
[null,null,"請求日",{"$f":"D3","v":"2025-02-27"},null,{"$f":"F3","v":"20"},"日"]
[null,null,"担当者",{"$f":"D4","v":0},null,null,null,null,{"$f":"I4","v":0}]
[null,null,"受注先",{"$f":"D5","v":0},null,"現場名称",{"$f":"G5","v":0}]
[]
[null,null,"摘　要",null,"請　求　欄",null,null,null,"査　定　欄"]
[null,null,"人工は日付も記入してください",null,"数量","単位","単価","小計","数量","単位","単価","小計"]
[null,1,{"$f":"C9","v":0},null,{"$f":"E9","v":0},{"$f":"F9","v":0},0,{"$f":"H9","v":0}]
[null,2,{"$f":"C10","v":0},null,0,0,0,0]
[null,3,0,null,0,0,0,0]
[null,4,0,null,0,0,0,0]
[null,5,{"$f":"C13","v":0},null,0,0,0,0]
[null,"※立替金は必ず領収書を添付してください",null,null,"計",null,null,0,"計"]
[null,"立替金(税込)Ⓐ",null,{"$f":"D15","v":0},"既収金",null,null,0,"既支払額"]
[null,{"$f":"\"参考計\"&TEXT(D40+H43,\"#,###\")","v":"参考計"},null,null,"当月出来高",null,null,0,"当月出来高"]
[null,null,null,null,"消費税",null,null,0,"消費税"]
[null,null,null,null,"合計Ⓑ",null,null,0,"査定金額"]
[]
[null,null,null,null,null,null,"税抜計","消費税"]
[null,null,null,null,"10%対象計",null,{"$f":"G21","v":0},{"$f":"H21","v":0}]
[null,null,null,null,{"$f":"E22","v":0},null,{"$f":"G22","v":0},{"$f":"H22","v":0}]

{"sheet":"明細No3","index":3,"n_rows":47,"n_cols":12,"rows_kept":47,"cut":false,"hidden":false,"merged":[[44,4,44,5],[45,4,45,5],[46,4,46,5],[37,2,37,3],[29,6,29,8],[33,2,33,3],[34,2,34,3],[35,2,35,3],[36,2,36,3],[1,8,2,11],[2,3,2,4],[26,8,27,11],[27,3,27,4],[19,4,19,5],[8,2,8,3],[9,2,9,3],[10,2,10,3],[11,2,11,3],[12,2,12,3],[20,4,20,5],[21,4,21,5],[26,7,28,7]]}
[null,null,"請求明細書(控用)",null,null,null,"No.3",null,"請求者"]
[null,null,null,null,null,null,null,null,{"$f":"総括!G7","v":0}]
[null,null,"請求日",{"$f":"総括!I2","v":"2025-02-27"},null,{"$f":"総括!J2","v":"20"},"日"]
[null,null,"担当者"]
[null,null,"受注先",null,null,"現場名称"]
[]
[null,null,"摘　要",null,"請　求　欄",null,null,null,"査　定　欄"]
[null,null,"人工は日付も記入してください",null,"数量","単位","単価","小計","数量","単位","単価","小計"]
[null,1,null,null,null,null,null,{"$f":"ROUND(E9*G9,0)","v":0}]
[null,2,null,null,null,null,null,{"$f":"ROUND(E10*G10,0)","v":0}]
[null,3,null,null,null,null,null,0]
[null,4,null,null,null,null,null,0]
[null,5,null,null,null,null,null,0]
[null,"※立替金は必ず領収書を添付してください",null,null,"計",null,null,{"$f":"SUM(H9:H13)","v":0},"計"]
[null,"立替金(税込)Ⓐ ",null,null,"既収金",null,null,null,"既支払額"]
[null,null,null,null,"当月出来高",null,null,{"$f":"H14-H15","v":0},"当月出来高"]
[null,null,null,null,"消費税",null,null,{"$f":"H21+H22","v":0},"消費税"]
[null,null,null,null,"合計(税込)Ⓑ",null,null,{"$f":"H16+H17","v":0},"査定金額"]
[]
[null,null,null,null,null,null,"税抜計","消費税"]
[null,null,null,null,"10%対象計",null,{"$f":"H16-G22","v":0},{"$f":"ROUND(G21*0.1,0)","v":0}]
[]
[]
[null,"↓切り離してご提出下さい"]
[]
[null,null,"請求明細書(提出用)",null,null,null,{"$f":"G1","v":"No.3"},null,"請求者"]
[null,null,null,null,null,null,null,{"$f":"IF(総括!E2=\"労　務\",\"労\",IF(総括!E2=\"外　注\",\"外\",))","v":"外"},{"$f":"I2","v":0}]
[null,null,"請求日",{"$f":"D3","v":"2025-02-27"},null,{"$f":"F3","v":"20"},"日"]
[null,null,"担当者",{"$f":"D4","v":0},null,null,null,null,{"$f":"I4","v":0}]
[null,null,"受注先",{"$f":"D5","v":0},null,"現場名称",{"$f":"G5","v":0}]
[]
[null,null,"摘　要",null,"請　求　欄",null,null,null,"査　定　欄"]
[null,null,"人工は日付も記入してください",null,"数量","単位","単価","小計","数量","単位","単価","小計"]
[null,1,{"$f":"C9","v":0},null,{"$f":"E9","v":0},{"$f":"F9","v":0},0,{"$f":"H9","v":0}]
[null,2,{"$f":"C10","v":0},null,0,0,0,0]
[null,3,0,null,0,0,0,0]
[null,4,0,null,0,0,0,0]
[null,5,{"$f":"C13","v":0},null,0,0,0,0]
[null,"※立替金は必ず領収書を添付してください",null,null,"計",null,null,0,"計"]
[null,"立替金(税込)Ⓐ",null,{"$f":"D15","v":0},"既収金",null,null,0,"既支払額"]
[null,{"$f":"\"参考計\"&TEXT(D40+H43,\"#,###\")","v":"参考計"},null,null,"当月出来高",null,null,0,"当月出来高"]
[null,null,null,null,"消費税",null,null,0,"消費税"]
[null,null,null,null,"合計Ⓑ",null,null,0,"査定金額"]
[]
[null,null,null,null,null,null,"税抜計","消費税"]
[null,null,null,null,"10%対象計",null,{"$f":"G21","v":0},{"$f":"H21","v":0}]
[null,null,null,null,{"$f":"E22","v":0},null,{"$f":"G22","v":0},{"$f":"H22","v":0}]

{"sheet":"明細No4","index":4,"n_rows":47,"n_cols":12,"rows_kept":47,"cut":false,"hidden":false,"merged":[[44,4,44,5],[45,4,45,5],[46,4,46,5],[37,2,37,3],[29,6,29,8],[33,2,33,3],[34,2,34,3],[35,2,35,3],[36,2,36,3],[1,8,2,11],[2,3,2,4],[26,8,27,11],[27,3,27,4],[19,4,19,5],[8,2,8,3],[9,2,9,3],[10,2,10,3],[11,2,11,3],[12,2,12,3],[20,4,20,5],[21,4,21,5],[26,7,28,7]]}
[null,null,"請求明細書(控用)",null,null,null,"No.4",null,"請求者"]
[null,null,null,null,null,null,null,null,{"$f":"総括!G7","v":0}]
[null,null,"請求日",{"$f":"総括!I2","v":"2025-02-27"},null,{"$f":"総括!J2","v":"20"},"日"]
[null,null,"担当者"]
[null,null,"受注先",null,null,"現場名称"]
[]
[null,null,"摘　要",null,"請　求　欄",null,null,null,"査　定　欄"]
[null,null,"人工は日付も記入してください",null,"数量","単位","単価","小計","数量","単位","単価","小計"]
[null,1,null,null,null,null,null,{"$f":"ROUND(E9*G9,0)","v":0}]
[null,2,null,null,null,null,null,{"$f":"ROUND(E10*G10,0)","v":0}]
[null,3,null,null,null,null,null,0]
[null,4,null,null,null,null,null,0]
[null,5,null,null,null,null,null,0]
[null,"※立替金は必ず領収書を添付してください",null,null,"計",null,null,{"$f":"SUM(H9:H13)","v":0},"計"]
[null,"立替金(税込)Ⓐ ",null,null,"既収金",null,null,null,"既支払額"]
[null,null,null,null,"当月出来高",null,null,{"$f":"H14-H15","v":0},"当月出来高"]
[null,null,null,null,"消費税",null,null,{"$f":"H21+H22","v":0},"消費税"]
[null,null,null,null,"合計(税込)Ⓑ",null,null,{"$f":"H16+H17","v":0},"査定金額"]
[]
[null,null,null,null,null,null,"税抜計","消費税"]
[null,null,null,null,"10%対象計",null,{"$f":"H16-G22","v":0},{"$f":"ROUND(G21*0.1,0)","v":0}]
[]
[]
[null,"↓切り離してご提出下さい"]
[]
[null,null,"請求明細書(提出用)",null,null,null,{"$f":"G1","v":"No.4"},null,"請求者"]
[null,null,null,null,null,null,null,{"$f":"IF(総括!E2=\"労　務\",\"労\",IF(総括!E2=\"外　注\",\"外\",))","v":"外"},{"$f":"I2","v":0}]
[null,null,"請求日",{"$f":"D3","v":"2025-02-27"},null,{"$f":"F3","v":"20"},"日"]
[null,null,"担当者",{"$f":"D4","v":0},null,null,null,null,{"$f":"I4","v":0}]
[null,null,"受注先",{"$f":"D5","v":0},null,"現場名称",{"$f":"G5","v":0}]
[]
[null,null,"摘　要",null,"請　求　欄",null,null,null,"査　定　欄"]
[null,null,"人工は日付も記入してください",null,"数量","単位","単価","小計","数量","単位","単価","小計"]
[null,1,{"$f":"C9","v":0},null,{"$f":"E9","v":0},{"$f":"F9","v":0},0,{"$f":"H9","v":0}]
[null,2,{"$f":"C10","v":0},null,0,0,0,0]
[null,3,0,null,0,0,0,0]
[null,4,0,null,0,0,0,0]
[null,5,{"$f":"C13","v":0},null,0,0,0,0]
[null,"※立替金は必ず領収書を添付してください",null,null,"計",null,null,0,"計"]
[null,"立替金(税込)Ⓐ",null,{"$f":"D15","v":0},"既収金",null,null,0,"既支払額"]
[null,{"$f":"\"参考計\"&TEXT(D40+H43,\"#,###\")","v":"参考計"},null,null,"当月出来高",null,null,0,"当月出来高"]
[null,null,null,null,"消費税",null,null,0,"消費税"]
[null,null,null,null,"合計Ⓑ",null,null,0,"査定金額"]
[]
[null,null,null,null,null,null,"税抜計","消費税"]
[null,null,null,null,"10%対象計",null,{"$f":"G21","v":0},{"$f":"H21","v":0}]
[null,null,null,null,{"$f":"E22","v":0},null,{"$f":"G22","v":0},{"$f":"H22","v":0}]

{"sheet":"明細No5","index":5,"n_rows":47,"n_cols":12,"rows_kept":47,"cut":false,"hidden":false,"merged":[[44,4,44,5],[45,4,45,5],[46,4,46,5],[37,2,37,3],[29,6,29,8],[33,2,33,3],[34,2,34,3],[35,2,35,3],[36,2,36,3],[1,8,2,11],[2,3,2,4],[26,8,27,11],[27,3,27,4],[19,4,19,5],[8,2,8,3],[9,2,9,3],[10,2,10,3],[11,2,11,3],[12,2,12,3],[20,4,20,5],[21,4,21,5],[26,7,28,7]]}
[null,null,"請求明細書(控用)",null,null,null,"No.5",null,"請求者"]
[null,null,null,null,null,null,null,null,{"$f":"総括!G7","v":0}]
[null,null,"請求日",{"$f":"総括!I2","v":"2025-02-27"},null,{"$f":"総括!J2","v":"20"},"日"]
[null,null,"担当者"]
[null,null,"受注先",null,null,"現場名称"]
[]
[null,null,"摘　要",null,"請　求　欄",null,null,null,"査　定　欄"]
[null,null,"人工は日付も記入してください",null,"数量","単位","単価","小計","数量","単位","単価","小計"]
[null,1,null,null,null,null,null,{"$f":"ROUND(E9*G9,0)","v":0}]
[null,2,null,null,null,null,null,{"$f":"ROUND(E10*G10,0)","v":0}]
[null,3,null,null,null,null,null,0]
[null,4,null,null,null,null,null,0]
[null,5,null,null,null,null,null,0]
[null,"※立替金は必ず領収書を添付してください",null,null,"計",null,null,{"$f":"SUM(H9:H13)","v":0},"計"]
[null,"立替金(税込)Ⓐ ",null,null,"既収金",null,null,null,"既支払額"]
[null,null,null,null,"当月出来高",null,null,{"$f":"H14-H15","v":0},"当月出来高"]
[null,null,null,null,"消費税",null,null,{"$f":"H21+H22","v":0},"消費税"]
[null,null,null,null,"合計(税込)Ⓑ",null,null,{"$f":"H16+H17","v":0},"査定金額"]
[]
[null,null,null,null,null,null,"税抜計","消費税"]
[null,null,null,null,"10%対象計",null,{"$f":"H16-G22","v":0},{"$f":"ROUND(G21*0.1,0)","v":0}]
[]
[]
[null,"↓切り離してご提出下さい"]
[]
[null,null,"請求明細書(提出用)",null,null,null,{"$f":"G1","v":"No.5"},null,"請求者"]
[null,null,null,null,null,null,null,{"$f":"IF(総括!E2=\"労　務\",\"労\",IF(総括!E2=\"外　注\",\"外\",))","v":"外"},{"$f":"I2","v":0}]
[null,null,"請求日",{"$f":"D3","v":"2025-02-27"},null,{"$f":"F3","v":"20"},"日"]
[null,null,"担当者",{"$f":"D4","v":0},null,null,null,null,{"$f":"I4","v":0}]
[null,null,"受注先",{"$f":"D5","v":0},null,"現場名称",{"$f":"G5","v":0}]
[]
[null,null,"摘　要",null,"請　求　欄",null,null,null,"査　定　欄"]
[null,null,"人工は日付も記入してください",null,"数量","単位","単価","小計","数量","単位","単価","小計"]
[null,1,{"$f":"C9","v":0},null,{"$f":"E9","v":0},{"$f":"F9","v":0},0,{"$f":"H9","v":0}]
[null,2,{"$f":"C10","v":0},null,0,0,0,0]
[null,3,0,null,0,0,0,0]
[null,4,0,null,0,0,0,0]
[null,5,{"$f":"C13","v":0},null,0,0,0,0]
[null,"※立替金は必ず領収書を添付してください",null,null,"計",null,null,0,"計"]
[null,"立替金(税込)Ⓐ",null,{"$f":"D15","v":0},"既収金",null,null,0,"既支払額"]
[null,{"$f":"\"参考計\"&TEXT(D40+H43,\"#,###\")","v":"参考計"},null,null,"当月出来高",null,null,0,"当月出来高"]
[null,null,null,null,"消費税",null,null,0,"消費税"]
[null,null,null,null,"合計Ⓑ",null,null,0,"査定金額"]
[]
[null,null,null,null,null,null,"税抜計","消費税"]
[null,null,null,null,"10%対象計",null,{"$f":"G21","v":0},{"$f":"H21","v":0}]
[null,null,null,null,{"$f":"E22","v":0},null,{"$f":"G22","v":0},{"$f":"H22","v":0}]

{"sheet":"明細No6","index":6,"n_rows":47,"n_cols":12,"rows_kept":47,"cut":false,"hidden":false,"merged":[[44,4,44,5],[45,4,45,5],[46,4,46,5],[37,2,37,3],[29,6,29,8],[33,2,33,3],[34,2,34,3],[35,2,35,3],[36,2,36,3],[1,8,2,11],[2,3,2,4],[26,8,27,11],[27,3,27,4],[19,4,19,5],[8,2,8,3],[9,2,9,3],[10,2,10,3],[11,2,11,3],[12,2,12,3],[20,4,20,5],[21,4,21,5],[26,7,28,7]]}
[null,null,"請求明細書(控用)",null,null,null,"No.6",null,"請求者"]
[null,null,null,null,null,null,null,null,{"$f":"総括!G7","v":0}]
[null,null,"請求日",{"$f":"総括!I2","v":"2025-02-27"},null,{"$f":"総括!J2","v":"20"},"日"]
[null,null,"担当者"]
[null,null,"受注先",null,null,"現場名称"]
[]
[null,null,"摘　要",null,"請　求　欄",null,null,null,"査　定　欄"]
[null,null,"人工は日付も記入してください",null,"数量","単位","単価","小計","数量","単位","単価","小計"]
[null,1,null,null,null,null,null,{"$f":"ROUND(E9*G9,0)","v":0}]
[null,2,null,null,null,null,null,{"$f":"ROUND(E10*G10,0)","v":0}]
[null,3,null,null,null,null,null,0]
[null,4,null,null,null,null,null,0]
[null,5,null,null,null,null,null,0]
[null,"※立替金は必ず領収書を添付してください",null,null,"計",null,null,{"$f":"SUM(H9:H13)","v":0},"計"]
[null,"立替金(税込)Ⓐ ",null,null,"既収金",null,null,null,"既支払額"]
[null,null,null,null,"当月出来高",null,null,{"$f":"H14-H15","v":0},"当月出来高"]
[null,null,null,null,"消費税",null,null,{"$f":"H21+H22","v":0},"消費税"]
[null,null,null,null,"合計(税込)Ⓑ",null,null,{"$f":"H16+H17","v":0},"査定金額"]
[]
[null,null,null,null,null,null,"税抜計","消費税"]
[null,null,null,null,"10%対象計",null,{"$f":"H16-G22","v":0},{"$f":"ROUND(G21*0.1,0)","v":0}]
[]
[]
[null,"↓切り離してご提出下さい"]
[]
[null,null,"請求明細書(提出用)",null,null,null,{"$f":"G1","v":"No.6"},null,"請求者"]
[null,null,null,null,null,null,null,{"$f":"IF(総括!E2=\"労　務\",\"労\",IF(総括!E2=\"外　注\",\"外\",))","v":"外"},{"$f":"I2","v":0}]
[null,null,"請求日",{"$f":"D3","v":"2025-02-27"},null,{"$f":"F3","v":"20"},"日"]
[null,null,"担当者",{"$f":"D4","v":0},null,null,null,null,{"$f":"I4","v":0}]
[null,null,"受注先",{"$f":"D5","v":0},null,"現場名称",{"$f":"G5","v":0}]
[]
[null,null,"摘　要",null,"請　求　欄",null,null,null,"査　定　欄"]
[null,null,"人工は日付も記入してください",null,"数量","単位","単価","小計","数量","単位","単価","小計"]
[null,1,{"$f":"C9","v":0},null,{"$f":"E9","v":0},{"$f":"F9","v":0},0,{"$f":"H9","v":0}]
[null,2,{"$f":"C10","v":0},null,0,0,0,0]
[null,3,0,null,0,0,0,0]
[null,4,0,null,0,0,0,0]
[null,5,{"$f":"C13","v":0},null,0,0,0,0]
[null,"※立替金は必ず領収書を添付してください",null,null,"計",null,null,0,"計"]
[null,"立替金(税込)Ⓐ",null,{"$f":"D15","v":0},"既収金",null,null,0,"既支払額"]
[null,{"$f":"\"参考計\"&TEXT(D40+H43,\"#,###\")","v":"参考計"},null,null,"当月出来高",null,null,0,"当月出来高"]
[null,null,null,null,"消費税",null,null,0,"消費税"]
[null,null,null,null,"合計Ⓑ",null,null,0,"査定金額"]
[]
[null,null,null,null,null,null,"税抜計","消費税"]
[null,null,null,null,"10%対象計",null,{"$f":"G21","v":0},{"$f":"H21","v":0}]
[null,null,null,null,{"$f":"E22","v":0},null,{"$f":"G22","v":0},{"$f":"H22","v":0}]

{"sheet":"明細No7","index":7,"n_rows":47,"n_cols":12,"rows_kept":47,"cut":false,"hidden":false,"merged":[[44,4,44,5],[45,4,45,5],[46,4,46,5],[37,2,37,3],[29,6,29,8],[33,2,33,3],[34,2,34,3],[35,2,35,3],[36,2,36,3],[1,8,2,11],[2,3,2,4],[26,8,27,11],[27,3,27,4],[19,4,19,5],[8,2,8,3],[9,2,9,3],[10,2,10,3],[11,2,11,3],[12,2,12,3],[20,4,20,5],[21,4,21,5],[26,7,28,7]]}
[null,null,"請求明細書(控用)",null,null,null,"No.7",null,"請求者"]
[null,null,null,null,null,null,null,null,{"$f":"総括!G7","v":0}]
[null,null,"請求日",{"$f":"総括!I2","v":"2025-02-27"},null,{"$f":"総括!J2","v":"20"},"日"]
[null,null,"担当者"]
[null,null,"受注先",null,null,"現場名称"]
[]
[null,null,"摘　要",null,"請　求　欄",null,null,null,"査　定　欄"]
[null,null,"人工は日付も記入してください",null,"数量","単位","単価","小計","数量","単位","単価","小計"]
[null,1,null,null,null,null,null,{"$f":"ROUND(E9*G9,0)","v":0}]
[null,2,null,null,null,null,null,{"$f":"ROUND(E10*G10,0)","v":0}]
[null,3,null,null,null,null,null,0]
[null,4,null,null,null,null,null,0]
[null,5,null,null,null,null,null,0]
[null,"※立替金は必ず領収書を添付してください",null,null,"計",null,null,{"$f":"SUM(H9:H13)","v":0},"計"]
[null,"立替金(税込)Ⓐ ",null,null,"既収金",null,null,null,"既支払額"]
[null,null,null,null,"当月出来高",null,null,{"$f":"H14-H15","v":0},"当月出来高"]
[null,null,null,null,"消費税",null,null,{"$f":"H21+H22","v":0},"消費税"]
[null,null,null,null,"合計(税込)Ⓑ",null,null,{"$f":"H16+H17","v":0},"査定金額"]
[]
[null,null,null,null,null,null,"税抜計","消費税"]
[null,null,null,null,"10%対象計",null,{"$f":"H16-G22","v":0},{"$f":"ROUND(G21*0.1,0)","v":0}]
[]
[]
[null,"↓切り離してご提出下さい"]
[]
[null,null,"請求明細書(提出用)",null,null,null,{"$f":"G1","v":"No.7"},null,"請求者"]
[null,null,null,null,null,null,null,{"$f":"IF(総括!E2=\"労　務\",\"労\",IF(総括!E2=\"外　注\",\"外\",))","v":"外"},{"$f":"I2","v":0}]
[null,null,"請求日",{"$f":"D3","v":"2025-02-27"},null,{"$f":"F3","v":"20"},"日"]
[null,null,"担当者",{"$f":"D4","v":0},null,null,null,null,{"$f":"I4","v":0}]
[null,null,"受注先",{"$f":"D5","v":0},null,"現場名称",{"$f":"G5","v":0}]
[]
[null,null,"摘　要",null,"請　求　欄",null,null,null,"査　定　欄"]
[null,null,"人工は日付も記入してください",null,"数量","単位","単価","小計","数量","単位","単価","小計"]
[null,1,{"$f":"C9","v":0},null,{"$f":"E9","v":0},{"$f":"F9","v":0},0,{"$f":"H9","v":0}]
[null,2,{"$f":"C10","v":0},null,0,0,0,0]
[null,3,0,null,0,0,0,0]
[null,4,0,null,0,0,0,0]
[null,5,{"$f":"C13","v":0},null,0,0,0,0]
[null,"※立替金は必ず領収書を添付してください",null,null,"計",null,null,0,"計"]
[null,"立替金(税込)Ⓐ",null,{"$f":"D15","v":0},"既収金",null,null,0,"既支払額"]
[null,{"$f":"\"参考計\"&TEXT(D40+H43,\"#,###\")","v":"参考計"},null,null,"当月出来高",null,null,0,"当月出来高"]
[null,null,null,null,"消費税",null,null,0,"消費税"]
[null,null,null,null,"合計Ⓑ",null,null,0,"査定金額"]
[]
[null,null,null,null,null,null,"税抜計","消費税"]
[null,null,null,null,"10%対象計",null,{"$f":"G21","v":0},{"$f":"H21","v":0}]
[null,null,null,null,{"$f":"E22","v":0},null,{"$f":"G22","v":0},{"$f":"H22","v":0}]

{"sheet":"明細No8","index":8,"n_rows":47,"n_cols":12,"rows_kept":47,"cut":false,"hidden":false,"merged":[[44,4,44,5],[45,4,45,5],[46,4,46,5],[37,2,37,3],[29,6,29,8],[33,2,33,3],[34,2,34,3],[35,2,35,3],[36,2,36,3],[1,8,2,11],[2,3,2,4],[26,8,27,11],[27,3,27,4],[19,4,19,5],[8,2,8,3],[9,2,9,3],[10,2,10,3],[11,2,11,3],[12,2,12,3],[20,4,20,5],[21,4,21,5],[26,7,28,7]]}
[null,null,"請求明細書(控用)",null,null,null,"No.8",null,"請求者"]
[null,null,null,null,null,null,null,null,{"$f":"総括!G7","v":0}]
[null,null,"請求日",{"$f":"総括!I2","v":"2025-02-27"},null,{"$f":"総括!J2","v":"20"},"日"]
[null,null,"担当者"]
[null,null,"受注先",null,null,"現場名称"]
[]
[null,null,"摘　要",null,"請　求　欄",null,null,null,"査　定　欄"]
[null,null,"人工は日付も記入してください",null,"数量","単位","単価","小計","数量","単位","単価","小計"]
[null,1,null,null,null,null,null,{"$f":"ROUND(E9*G9,0)","v":0}]
[null,2,null,null,null,null,null,{"$f":"ROUND(E10*G10,0)","v":0}]
[null,3,null,null,null,null,null,0]
[null,4,null,null,null,null,null,0]
[null,5,null,null,null,null,null,0]
[null,"※立替金は必ず領収書を添付してください",null,null,"計",null,null,{"$f":"SUM(H9:H13)","v":0},"計"]
[null,"立替金(税込)Ⓐ ",null,null,"既収金",null,null,null,"既支払額"]
[null,null,null,null,"当月出来高",null,null,{"$f":"H14-H15","v":0},"当月出来高"]
[null,null,null,null,"消費税",null,null,{"$f":"H21+H22","v":0},"消費税"]
[null,null,null,null,"合計(税込)Ⓑ",null,null,{"$f":"H16+H17","v":0},"査定金額"]
[]
[null,null,null,null,null,null,"税抜計","消費税"]
[null,null,null,null,"10%対象計",null,{"$f":"H16-G22","v":0},{"$f":"ROUND(G21*0.1,0)","v":0}]
[]
[]
[null,"↓切り離してご提出下さい"]
[]
[null,null,"請求明細書(提出用)",null,null,null,{"$f":"G1","v":"No.8"},null,"請求者"]
[null,null,null,null,null,null,null,{"$f":"IF(総括!E2=\"労　務\",\"労\",IF(総括!E2=\"外　注\",\"外\",))","v":"外"},{"$f":"I2","v":0}]
[null,null,"請求日",{"$f":"D3","v":"2025-02-27"},null,{"$f":"F3","v":"20"},"日"]
[null,null,"担当者",{"$f":"D4","v":0},null,null,null,null,{"$f":"I4","v":0}]
[null,null,"受注先",{"$f":"D5","v":0},null,"現場名称",{"$f":"G5","v":0}]
[]
[null,null,"摘　要",null,"請　求　欄",null,null,null,"査　定　欄"]
[null,null,"人工は日付も記入してください",null,"数量","単位","単価","小計","数量","単位","単価","小計"]
[null,1,{"$f":"C9","v":0},null,{"$f":"E9","v":0},{"$f":"F9","v":0},0,{"$f":"H9","v":0}]
[null,2,{"$f":"C10","v":0},null,0,0,0,0]
[null,3,0,null,0,0,0,0]
[null,4,0,null,0,0,0,0]
[null,5,{"$f":"C13","v":0},null,0,0,0,0]
[null,"※立替金は必ず領収書を添付してください",null,null,"計",null,null,0,"計"]
[null,"立替金(税込)Ⓐ",null,{"$f":"D15","v":0},"既収金",null,null,0,"既支払額"]
[null,{"$f":"\"参考計\"&TEXT(D40+H43,\"#,###\")","v":"参考計"},null,null,"当月出来高",null,null,0,"当月出来高"]
[null,null,null,null,"消費税",null,null,0,"消費税"]
[null,null,null,null,"合計Ⓑ",null,null,0,"査定金額"]
[]
[null,null,null,null,null,null,"税抜計","消費税"]
[null,null,null,null,"10%対象計",null,{"$f":"G21","v":0},{"$f":"H21","v":0}]
[null,null,null,null,{"$f":"E22","v":0},null,{"$f":"G22","v":0},{"$f":"H22","v":0}]

{"sheet":"明細No9","index":9,"n_rows":47,"n_cols":12,"rows_kept":47,"cut":false,"hidden":false,"merged":[[44,4,44,5],[45,4,45,5],[46,4,46,5],[37,2,37,3],[29,6,29,8],[33,2,33,3],[34,2,34,3],[35,2,35,3],[36,2,36,3],[1,8,2,11],[2,3,2,4],[26,8,27,11],[27,3,27,4],[19,4,19,5],[8,2,8,3],[9,2,9,3],[10,2,10,3],[11,2,11,3],[12,2,12,3],[20,4,20,5],[21,4,21,5],[26,7,28,7]]}
[null,null,"請求明細書(控用)",null,null,null,"No.9",null,"請求者"]
[null,null,null,null,null,null,null,null,{"$f":"総括!G7","v":0}]
[null,null,"請求日",{"$f":"総括!I2","v":"2025-02-27"},null,{"$f":"総括!J2","v":"20"},"日"]
[null,null,"担当者"]
[null,null,"受注先",null,null,"現場名称"]
[]
[null,null,"摘　要",null,"請　求　欄",null,null,null,"査　定　欄"]
[null,null,"人工は日付も記入してください",null,"数量","単位","単価","小計","数量","単位","単価","小計"]
[null,1,null,null,null,null,null,{"$f":"ROUND(E9*G9,0)","v":0}]
[null,2,null,null,null,null,null,{"$f":"ROUND(E10*G10,0)","v":0}]
[null,3,null,null,null,null,null,0]
[null,4,null,null,null,null,null,0]
[null,5,null,null,null,null,null,0]
[null,"※立替金は必ず領収書を添付してください",null,null,"計",null,null,{"$f":"SUM(H9:H13)","v":0},"計"]
[null,"立替金(税込)Ⓐ ",null,null,"既収金",null,null,null,"既支払額"]
[null,null,null,null,"当月出来高",null,null,{"$f":"H14-H15","v":0},"当月出来高"]
[null,null,null,null,"消費税",null,null,{"$f":"H21+H22","v":0},"消費税"]
[null,null,null,null,"合計(税込)Ⓑ",null,null,{"$f":"H16+H17","v":0},"査定金額"]
[]
[null,null,null,null,null,null,"税抜計","消費税"]
[null,null,null,null,"10%対象計",null,{"$f":"H16-G22","v":0},{"$f":"ROUND(G21*0.1,0)","v":0}]
[]
[]
[null,"↓切り離してご提出下さい"]
[]
[null,null,"請求明細書(提出用)",null,null,null,{"$f":"G1","v":"No.9"},null,"請求者"]
[null,null,null,null,null,null,null,{"$f":"IF(総括!E2=\"労　務\",\"労\",IF(総括!E2=\"外　注\",\"外\",))","v":"外"},{"$f":"I2","v":0}]
[null,null,"請求日",{"$f":"D3","v":"2025-02-27"},null,{"$f":"F3","v":"20"},"日"]
[null,null,"担当者",{"$f":"D4","v":0},null,null,null,null,{"$f":"I4","v":0}]
[null,null,"受注先",{"$f":"D5","v":0},null,"現場名称",{"$f":"G5","v":0}]
[]
[null,null,"摘　要",null,"請　求　欄",null,null,null,"査　定　欄"]
[null,null,"人工は日付も記入してください",null,"数量","単位","単価","小計","数量","単位","単価","小計"]
[null,1,{"$f":"C9","v":0},null,{"$f":"E9","v":0},{"$f":"F9","v":0},0,{"$f":"H9","v":0}]
[null,2,{"$f":"C10","v":0},null,0,0,0,0]
[null,3,0,null,0,0,0,0]
[null,4,0,null,0,0,0,0]
[null,5,{"$f":"C13","v":0},null,0,0,0,0]
[null,"※立替金は必ず領収書を添付してください",null,null,"計",null,null,0,"計"]
[null,"立替金(税込)Ⓐ",null,{"$f":"D15","v":0},"既収金",null,null,0,"既支払額"]
[null,{"$f":"\"参考計\"&TEXT(D40+H43,\"#,###\")","v":"参考計"},null,null,"当月出来高",null,null,0,"当月出来高"]
[null,null,null,null,"消費税",null,null,0,"消費税"]
[null,null,null,null,"合計Ⓑ",null,null,0,"査定金額"]
[]
[null,null,null,null,null,null,"税抜計","消費税"]
[null,null,null,null,"10%対象計",null,{"$f":"G21","v":0},{"$f":"H21","v":0}]
[null,null,null,null,{"$f":"E22","v":0},null,{"$f":"G22","v":0},{"$f":"H22","v":0}]

{"sheet":"明細No10","index":10,"n_rows":47,"n_cols":12,"rows_kept":47,"cut":false,"hidden":false,"merged":[[44,4,44,5],[45,4,45,5],[46,4,46,5],[37,2,37,3],[29,6,29,8],[33,2,33,3],[34,2,34,3],[35,2,35,3],[36,2,36,3],[1,8,2,11],[2,3,2,4],[26,8,27,11],[27,3,27,4],[19,4,19,5],[8,2,8,3],[9,2,9,3],[10,2,10,3],[11,2,11,3],[12,2,12,3],[20,4,20,5],[21,4,21,5],[26,7,28,7]]}
[null,null,"請求明細書(控用)",null,null,null,"No.10",null,"請求者"]
[null,null,null,null,null,null,null,null,{"$f":"総括!G7","v":0}]
[null,null,"請求日",{"$f":"総括!I2","v":"2025-02-27"},null,{"$f":"総括!J2","v":"20"},"日"]
[null,null,"担当者"]
[null,null,"受注先",null,null,"現場名称"]
[]
[null,null,"摘　要",null,"請　求　欄",null,null,null,"査　定　欄"]
[null,null,"人工は日付も記入してください",null,"数量","単位","単価","小計","数量","単位","単価","小計"]
[null,1,null,null,null,null,null,{"$f":"ROUND(E9*G9,0)","v":0}]
[null,2,null,null,null,null,null,{"$f":"ROUND(E10*G10,0)","v":0}]
[null,3,null,null,null,null,null,0]
[null,4,null,null,null,null,null,0]
[null,5,null,null,null,null,null,0]
[null,"※立替金は必ず領収書を添付してください",null,null,"計",null,null,{"$f":"SUM(H9:H13)","v":0},"計"]
[null,"立替金(税込)Ⓐ ",null,null,"既収金",null,null,null,"既支払額"]
[null,null,null,null,"当月出来高",null,null,{"$f":"H14-H15","v":0},"当月出来高"]
[null,null,null,null,"消費税",null,null,{"$f":"H21+H22","v":0},"消費税"]
[null,null,null,null,"合計(税込)Ⓑ",null,null,{"$f":"H16+H17","v":0},"査定金額"]
[]
[null,null,null,null,null,null,"税抜計","消費税"]
[null,null,null,null,"10%対象計",null,{"$f":"H16-G22","v":0},{"$f":"ROUND(G21*0.1,0)","v":0}]
[]
[]
[null,"↓切り離してご提出下さい"]
[]
[null,null,"請求明細書(提出用)",null,null,null,{"$f":"G1","v":"No.10"},null,"請求者"]
[null,null,null,null,null,null,null,{"$f":"IF(総括!E2=\"労　務\",\"労\",IF(総括!E2=\"外　注\",\"外\",))","v":"外"},{"$f":"I2","v":0}]
[null,null,"請求日",{"$f":"D3","v":"2025-02-27"},null,{"$f":"F3","v":"20"},"日"]
[null,null,"担当者",{"$f":"D4","v":0},null,null,null,null,{"$f":"I4","v":0}]
[null,null,"受注先",{"$f":"D5","v":0},null,"現場名称",{"$f":"G5","v":0}]
[]
[null,null,"摘　要",null,"請　求　欄",null,null,null,"査　定　欄"]
[null,null,"人工は日付も記入してください",null,"数量","単位","単価","小計","数量","単位","単価","小計"]
[null,1,{"$f":"C9","v":0},null,{"$f":"E9","v":0},{"$f":"F9","v":0},0,{"$f":"H9","v":0}]
[null,2,{"$f":"C10","v":0},null,0,0,0,0]
[null,3,0,null,0,0,0,0]
[null,4,0,null,0,0,0,0]
[null,5,{"$f":"C13","v":0},null,0,0,0,0]
[null,"※立替金は必ず領収書を添付してください",null,null,"計",null,null,0,"計"]
[null,"立替金(税込)Ⓐ",null,{"$f":"D15","v":0},"既収金",null,null,0,"既支払額"]
[null,{"$f":"\"参考計\"&TEXT(D40+H43,\"#,###\")","v":"参考計"},null,null,"当月出来高",null,null,0,"当月出来高"]
[null,null,null,null,"消費税",null,null,0,"消費税"]
[null,null,null,null,"合計Ⓑ",null,null,0,"査定金額"]
[]
[null,null,null,null,null,null,"税抜計","消費税"]
[null,null,null,null,"10%対象計",null,{"$f":"G21","v":0},{"$f":"H21","v":0}]
[null,null,null,null,{"$f":"E22","v":0},null,{"$f":"G22","v":0},{"$f":"H22","v":0}]

{"sheet":"明細No11","index":11,"n_rows":47,"n_cols":12,"rows_kept":47,"cut":false,"hidden":false,"merged":[[44,4,44,5],[45,4,45,5],[46,4,46,5],[37,2,37,3],[29,6,29,8],[33,2,33,3],[34,2,34,3],[35,2,35,3],[36,2,36,3],[1,8,2,11],[2,3,2,4],[26,8,27,11],[27,3,27,4],[19,4,19,5],[8,2,8,3],[9,2,9,3],[10,2,10,3],[11,2,11,3],[12,2,12,3],[20,4,20,5],[21,4,21,5],[26,7,28,7]]}
[null,null,"請求明細書(控用)",null,null,null,"No.11",null,"請求者"]
[null,null,null,null,null,null,null,null,{"$f":"総括!G7","v":0}]
[null,null,"請求日",{"$f":"総括!I2","v":"2025-02-27"},null,{"$f":"総括!J2","v":"20"},"日"]
[null,null,"担当者"]
[null,null,"受注先",null,null,"現場名称"]
[]
[null,null,"摘　要",null,"請　求　欄",null,null,null,"査　定　欄"]
[null,null,"人工は日付も記入してください",null,"数量","単位","単価","小計","数量","単位","単価","小計"]
[null,1,null,null,null,null,null,{"$f":"ROUND(E9*G9,0)","v":0}]
[null,2,null,null,null,null,null,{"$f":"ROUND(E10*G10,0)","v":0}]
[null,3,null,null,null,null,null,0]
[null,4,null,null,null,null,null,0]
[null,5,null,null,null,null,null,0]
[null,"※立替金は必ず領収書を添付してください",null,null,"計",null,null,{"$f":"SUM(H9:H13)","v":0},"計"]
[null,"立替金(税込)Ⓐ ",null,null,"既収金",null,null,null,"既支払額"]
[null,null,null,null,"当月出来高",null,null,{"$f":"H14-H15","v":0},"当月出来高"]
[null,null,null,null,"消費税",null,null,{"$f":"H21+H22","v":0},"消費税"]
[null,null,null,null,"合計(税込)Ⓑ",null,null,{"$f":"H16+H17","v":0},"査定金額"]
[]
[null,null,null,null,null,null,"税抜計","消費税"]
[null,null,null,null,"10%対象計",null,{"$f":"H16-G22","v":0},{"$f":"ROUND(G21*0.1,0)","v":0}]
[]
[]
[null,"↓切り離してご提出下さい"]
[]
[null,null,"請求明細書(提出用)",null,null,null,{"$f":"G1","v":"No.11"},null,"請求者"]
[null,null,null,null,null,null,null,{"$f":"IF(総括!E2=\"労　務\",\"労\",IF(総括!E2=\"外　注\",\"外\",))","v":"外"},{"$f":"I2","v":0}]
[null,null,"請求日",{"$f":"D3","v":"2025-02-27"},null,{"$f":"F3","v":"20"},"日"]
[null,null,"担当者",{"$f":"D4","v":0},null,null,null,null,{"$f":"I4","v":0}]
[null,null,"受注先",{"$f":"D5","v":0},null,"現場名称",{"$f":"G5","v":0}]
[]
[null,null,"摘　要",null,"請　求　欄",null,null,null,"査　定　欄"]
[null,null,"人工は日付も記入してください",null,"数量","単位","単価","小計","数量","単位","単価","小計"]
[null,1,{"$f":"C9","v":0},null,{"$f":"E9","v":0},{"$f":"F9","v":0},0,{"$f":"H9","v":0}]
[null,2,{"$f":"C10","v":0},null,0,0,0,0]
[null,3,0,null,0,0,0,0]
[null,4,0,null,0,0,0,0]
[null,5,{"$f":"C13","v":0},null,0,0,0,0]
[null,"※立替金は必ず領収書を添付してください",null,null,"計",null,null,0,"計"]
[null,"立替金(税込)Ⓐ",null,{"$f":"D15","v":0},"既収金",null,null,0,"既支払額"]
[null,{"$f":"\"参考計\"&TEXT(D40+H43,\"#,###\")","v":"参考計"},null,null,"当月出来高",null,null,0,"当月出来高"]
[null,null,null,null,"消費税",null,null,0,"消費税"]
[null,null,null,null,"合計Ⓑ",null,null,0,"査定金額"]
[]
[null,null,null,null,null,null,"税抜計","消費税"]
[null,null,null,null,"10%対象計",null,{"$f":"G21","v":0},{"$f":"H21","v":0}]
[null,null,null,null,{"$f":"E22","v":0},null,{"$f":"G22","v":0},{"$f":"H22","v":0}]

{"sheet":"明細No12","index":12,"n_rows":47,"n_cols":12,"rows_kept":47,"cut":false,"hidden":false,"merged":[[44,4,44,5],[45,4,45,5],[46,4,46,5],[37,2,37,3],[29,6,29,8],[33,2,33,3],[34,2,34,3],[35,2,35,3],[36,2,36,3],[1,8,2,11],[2,3,2,4],[26,8,27,11],[27,3,27,4],[19,4,19,5],[8,2,8,3],[9,2,9,3],[10,2,10,3],[11,2,11,3],[12,2,12,3],[20,4,20,5],[21,4,21,5],[26,7,28,7]]}
[null,null,"請求明細書(控用)",null,null,null,"No.12",null,"請求者"]
[null,null,null,null,null,null,null,null,{"$f":"総括!G7","v":0}]
[null,null,"請求日",{"$f":"総括!I2","v":"2025-02-27"},null,{"$f":"総括!J2","v":"20"},"日"]
[null,null,"担当者"]
[null,null,"受注先",null,null,"現場名称"]
[]
[null,null,"摘　要",null,"請　求　欄",null,null,null,"査　定　欄"]
[null,null,"人工は日付も記入してください",null,"数量","単位","単価","小計","数量","単位","単価","小計"]
[null,1,null,null,null,null,null,{"$f":"ROUND(E9*G9,0)","v":0}]
[null,2,null,null,null,null,null,{"$f":"ROUND(E10*G10,0)","v":0}]
[null,3,null,null,null,null,null,0]
[null,4,null,null,null,null,null,0]
[null,5,null,null,null,null,null,0]
[null,"※立替金は必ず領収書を添付してください",null,null,"計",null,null,{"$f":"SUM(H9:H13)","v":0},"計"]
[null,"立替金(税込)Ⓐ ",null,null,"既収金",null,null,null,"既支払額"]
[null,null,null,null,"当月出来高",null,null,{"$f":"H14-H15","v":0},"当月出来高"]
[null,null,null,null,"消費税",null,null,{"$f":"H21+H22","v":0},"消費税"]
[null,null,null,null,"合計(税込)Ⓑ",null,null,{"$f":"H16+H17","v":0},"査定金額"]
[]
[null,null,null,null,null,null,"税抜計","消費税"]
[null,null,null,null,"10%対象計",null,{"$f":"H16-G22","v":0},{"$f":"ROUND(G21*0.1,0)","v":0}]
[]
[]
[null,"↓切り離してご提出下さい"]
[]
[null,null,"請求明細書(提出用)",null,null,null,{"$f":"G1","v":"No.12"},null,"請求者"]
[null,null,null,null,null,null,null,{"$f":"IF(総括!E2=\"労　務\",\"労\",IF(総括!E2=\"外　注\",\"外\",))","v":"外"},{"$f":"I2","v":0}]
[null,null,"請求日",{"$f":"D3","v":"2025-02-27"},null,{"$f":"F3","v":"20"},"日"]
[null,null,"担当者",{"$f":"D4","v":0},null,null,null,null,{"$f":"I4","v":0}]
[null,null,"受注先",{"$f":"D5","v":0},null,"現場名称",{"$f":"G5","v":0}]
[]
[null,null,"摘　要",null,"請　求　欄",null,null,null,"査　定　欄"]
[null,null,"人工は日付も記入してください",null,"数量","単位","単価","小計","数量","単位","単価","小計"]
[null,1,{"$f":"C9","v":0},null,{"$f":"E9","v":0},{"$f":"F9","v":0},0,{"$f":"H9","v":0}]
[null,2,{"$f":"C10","v":0},null,0,0,0,0]
[null,3,0,null,0,0,0,0]
[null,4,0,null,0,0,0,0]
[null,5,{"$f":"C13","v":0},null,0,0,0,0]
[null,"※立替金は必ず領収書を添付してください",null,null,"計",null,null,0,"計"]
[null,"立替金(税込)Ⓐ",null,{"$f":"D15","v":0},"既収金",null,null,0,"既支払額"]
[null,{"$f":"\"参考計\"&TEXT(D40+H43,\"#,###\")","v":"参考計"},null,null,"当月出来高",null,null,0,"当月出来高"]
[null,null,null,null,"消費税",null,null,0,"消費税"]
[null,null,null,null,"合計Ⓑ",null,null,0,"査定金額"]
[]
[null,null,null,null,null,null,"税抜計","消費税"]
[null,null,null,null,"10%対象計",null,{"$f":"G21","v":0},{"$f":"H21","v":0}]
[null,null,null,null,{"$f":"E22","v":0},null,{"$f":"G22","v":0},{"$f":"H22","v":0}]

{"sheet":"明細No13","index":13,"n_rows":47,"n_cols":12,"rows_kept":47,"cut":false,"hidden":false,"merged":[[44,4,44,5],[45,4,45,5],[46,4,46,5],[37,2,37,3],[29,6,29,8],[33,2,33,3],[34,2,34,3],[35,2,35,3],[36,2,36,3],[1,8,2,11],[2,3,2,4],[26,8,27,11],[27,3,27,4],[19,4,19,5],[8,2,8,3],[9,2,9,3],[10,2,10,3],[11,2,11,3],[12,2,12,3],[20,4,20,5],[21,4,21,5],[26,7,28,7]]}
[null,null,"請求明細書(控用)",null,null,null,"No.13",null,"請求者"]
[null,null,null,null,null,null,null,null,{"$f":"総括!G7","v":0}]
[null,null,"請求日",{"$f":"総括!I2","v":"2025-02-27"},null,{"$f":"総括!J2","v":"20"},"日"]
[null,null,"担当者"]
[null,null,"受注先",null,null,"現場名称"]
[]
[null,null,"摘　要",null,"請　求　欄",null,null,null,"査　定　欄"]
[null,null,"人工は日付も記入してください",null,"数量","単位","単価","小計","数量","単位","単価","小計"]
[null,1,null,null,null,null,null,{"$f":"ROUND(E9*G9,0)","v":0}]
[null,2,null,null,null,null,null,{"$f":"ROUND(E10*G10,0)","v":0}]
[null,3,null,null,null,null,null,0]
[null,4,null,null,null,null,null,0]
[null,5,null,null,null,null,null,0]
[null,"※立替金は必ず領収書を添付してください",null,null,"計",null,null,{"$f":"SUM(H9:H13)","v":0},"計"]
[null,"立替金(税込)Ⓐ ",null,null,"既収金",null,null,null,"既支払額"]
[null,null,null,null,"当月出来高",null,null,{"$f":"H14-H15","v":0},"当月出来高"]
[null,null,null,null,"消費税",null,null,{"$f":"H21+H22","v":0},"消費税"]
[null,null,null,null,"合計(税込)Ⓑ",null,null,{"$f":"H16+H17","v":0},"査定金額"]
[]
[null,null,null,null,null,null,"税抜計","消費税"]
[null,null,null,null,"10%対象計",null,{"$f":"H16-G22","v":0},{"$f":"ROUND(G21*0.1,0)","v":0}]
[]
[]
[null,"↓切り離してご提出下さい"]
[]
[null,null,"請求明細書(提出用)",null,null,null,{"$f":"G1","v":"No.13"},null,"請求者"]
[null,null,null,null,null,null,null,{"$f":"IF(総括!E2=\"労　務\",\"労\",IF(総括!E2=\"外　注\",\"外\",))","v":"外"},{"$f":"I2","v":0}]
[null,null,"請求日",{"$f":"D3","v":"2025-02-27"},null,{"$f":"F3","v":"20"},"日"]
[null,null,"担当者",{"$f":"D4","v":0},null,null,null,null,{"$f":"I4","v":0}]
[null,null,"受注先",{"$f":"D5","v":0},null,"現場名称",{"$f":"G5","v":0}]
[]
[null,null,"摘　要",null,"請　求　欄",null,null,null,"査　定　欄"]
[null,null,"人工は日付も記入してください",null,"数量","単位","単価","小計","数量","単位","単価","小計"]
[null,1,{"$f":"C9","v":0},null,{"$f":"E9","v":0},{"$f":"F9","v":0},0,{"$f":"H9","v":0}]
[null,2,{"$f":"C10","v":0},null,0,0,0,0]
[null,3,0,null,0,0,0,0]
[null,4,0,null,0,0,0,0]
[null,5,{"$f":"C13","v":0},null,0,0,0,0]
[null,"※立替金は必ず領収書を添付してください",null,null,"計",null,null,0,"計"]
[null,"立替金(税込)Ⓐ",null,{"$f":"D15","v":0},"既収金",null,null,0,"既支払額"]
[null,{"$f":"\"参考計\"&TEXT(D40+H43,\"#,###\")","v":"参考計"},null,null,"当月出来高",null,null,0,"当月出来高"]
[null,null,null,null,"消費税",null,null,0,"消費税"]
[null,null,null,null,"合計Ⓑ",null,null,0,"査定金額"]
[]
[null,null,null,null,null,null,"税抜計","消費税"]
[null,null,null,null,"10%対象計",null,{"$f":"G21","v":0},{"$f":"H21","v":0}]
[null,null,null,null,{"$f":"E22","v":0},null,{"$f":"G22","v":0},{"$f":"H22","v":0}]

{"sheet":"旭日担当者","index":14,"n_rows":15,"n_cols":2,"rows_kept":15,"cut":false,"hidden":false,"merged":[]}
[null,"担当者名"]
[null,"髙橋宏之"]
[null,"葛西"]
[null,"佐藤光明"]
[null,"張"]
[null,"市瀬"]
[null,"遠山"]
[null,"高橋弘"]
[null,"吉田"]
[null,"洞谷"]
[null,"高橋信洋"]
[null,"楢原"]
[null,"瀬川"]
[null,"佐藤翔平"]
[null,"牧野"]